BEGIN:VCALENDAR
VERSION:2.0
CALSCALE:GREGORIAN
PRODID:adamgibbons/ics
METHOD:PUBLISH
X-PUBLISHED-TTL:PT1H
BEGIN:VEVENT
UID:432@tucsontimeline.info
SUMMARY:Desert Music Project and Benson Highway Band
DTSTAMP:20260419T230333Z
DTSTART:20251025T024500Z
DTEND:20251025T050000Z
DESCRIPTION:Tucson bands playing Tucson music. Release party for Desert Mus
	ic Project's\n"Rain Check" recording.
URL:https://tucsontimeline.info/event/desert-music-project-and-benson-highw
	ay-band
LOCATION:Owls Club - 236 S Scott Ave. Tucson 85701
STATUS:CONFIRMED
CATEGORIES:
X-ALT-DESC;FMTTYPE=text/html:<p>Tucson bands playing Tucson music. Release 
	party for Desert Music Project's "Rain Check" recording. </p>
END:VEVENT
END:VCALENDAR
